View In:
ArcGIS JavaScript
ArcGIS Online Map Viewer
ArcGIS Earth
Service Description: vyskopis/elevation_2021_tif
Name: vyskopis/elevation_2021_tif
Description:
Single Fused Map Cache: true
Tile Info:
- Height: 256
- Width: 256
- DPI: 96
-
Levels of Detail: 8
- Format: LERC
- Compression Quality: 0.0
- LERC Error: 0.05
- Origin: X: -3.36998E7
Y: 3.36998E7
- Spatial Reference: 102067
(5514)
Storage Info:
- Storage Format: esriMapCacheStorageModeCompactV2
- Packet Size: 128
Extent:
XMin: -584992.58
YMin: -1299102.45
XMax: -544752.58
YMax: -1249752.45
Spatial Reference: 102067
(5514)
Initial Extent:
XMin: -584992.58
YMin: -1299102.45
XMax: -544752.58
YMax: -1249752.45
Spatial Reference: 102067
(5514)
Full Extent:
XMin: -584992.58
YMin: -1299102.45
XMax: -544752.58
YMax: -1249752.45
Spatial Reference: 102067
(5514)
Pixel Size X: 2.0
Pixel Size Y: 2.0
Band Count: 1
Pixel Type: F32
RasterFunction Infos: {"rasterFunctionInfos": [{
"name": "None",
"description": "",
"help": ""
}]}
Mensuration Capabilities: Basic
Has Histograms: true
Has Colormap: false
Has Multi Dimensions : false
Rendering Rule:
Min Scale: 256000
Max Scale: 2000
Min LOD: 0
Max LOD: 7
Copyright Text:
Service Data Type: esriImageServiceDataTypeGeneric
Min Values: 113.84961700439453
Max Values: 593.47998046875
Mean Values: 167.8475790706807
Standard Deviation Values: 69.17264628827353
Object ID Field:
Fields:
None
Default Mosaic Method: Center
Allowed Mosaic Methods:
SortField:
SortValue: null
Mosaic Operator: First
Default Compression Quality: 75
Default Resampling Method: Bilinear
Max Record Count: null
Max Image Height: 4100
Max Image Width: 15000
Max Download Image Count: null
Max Mosaic Image Count: null
Allow Raster Function: true
Allow Copy: true
Allow Analysis: true
Allow Compute TiePoints: false
Supports Statistics: false
Supports Advanced Queries: false
Use StandardizedQueries: true
Raster Type Infos:
Name: Raster Dataset
Description: Supports all ArcGIS Raster Datasets
Help:
Has Raster Attribute Table: false
Edit Fields Info: null
Ownership Based AccessControl For Rasters: null
Child Resources:
Info
Histograms
Statistics
Key Properties
Legend
Raster Function Infos
Supported Operations:
Export Image
Identify
Measure
Compute Histograms
Compute Statistics Histograms
Get Samples
Compute Class Statistics
Query Boundary
Compute Pixel Location
Compute Angles
Validate
Project